BEGIN:VCALENDAR
VERSION:2.0
PRODID:-//Emmanuel Blessings Christian Centre - ECPv6.15.13.1//NONSGML v1.0//EN
CALSCALE:GREGORIAN
METHOD:PUBLISH
X-WR-CALNAME:Emmanuel Blessings Christian Centre
X-ORIGINAL-URL:https://emmanuel.com.au
X-WR-CALDESC:Events for Emmanuel Blessings Christian Centre
REFRESH-INTERVAL;VALUE=DURATION:PT1H
X-Robots-Tag:noindex
X-PUBLISHED-TTL:PT1H
BEGIN:VTIMEZONE
TZID:Australia/Melbourne
BEGIN:STANDARD
TZOFFSETFROM:+1100
TZOFFSETTO:+1000
TZNAME:AEST
DTSTART:20200404T160000
END:STANDARD
BEGIN:DAYLIGHT
TZOFFSETFROM:+1000
TZOFFSETTO:+1100
TZNAME:AEDT
DTSTART:20201003T160000
END:DAYLIGHT
BEGIN:STANDARD
TZOFFSETFROM:+1100
TZOFFSETTO:+1000
TZNAME:AEST
DTSTART:20210403T160000
END:STANDARD
BEGIN:DAYLIGHT
TZOFFSETFROM:+1000
TZOFFSETTO:+1100
TZNAME:AEDT
DTSTART:20211002T160000
END:DAYLIGHT
BEGIN:STANDARD
TZOFFSETFROM:+1100
TZOFFSETTO:+1000
TZNAME:AEST
DTSTART:20220402T160000
END:STANDARD
BEGIN:DAYLIGHT
TZOFFSETFROM:+1000
TZOFFSETTO:+1100
TZNAME:AEDT
DTSTART:20221001T160000
END:DAYLIGHT
END:VTIMEZONE
BEGIN:VEVENT
DTSTART;TZID=Australia/Melbourne:20210518T193000
DTEND;TZID=Australia/Melbourne:20210518T210000
DTSTAMP:20260425T021254
CREATED:20210512T112844Z
LAST-MODIFIED:20210512T121302Z
UID:760-1621366200-1621371600@emmanuel.com.au
SUMMARY:Shavuot Pentecost🔥Feast Celebration 2021
DESCRIPTION:Zoom ID: 725 549 440 or click here to enter the meeting. \nPlease contact us for the meeting password. \n  \n  \n  \n 
URL:https://emmanuel.com.au/event/shavuot-2021/
CATEGORIES:Zoom Conference
END:VEVENT
END:VCALENDAR