BEGIN:VCALENDAR
VERSION:2.0
PRODID:-//Emmanuel Blessings Christian Centre - ECPv6.15.13.1//NONSGML v1.0//EN
CALSCALE:GREGORIAN
METHOD:PUBLISH
X-WR-CALNAME:Emmanuel Blessings Christian Centre
X-ORIGINAL-URL:https://emmanuel.com.au
X-WR-CALDESC:Events for Emmanuel Blessings Christian Centre
REFRESH-INTERVAL;VALUE=DURATION:PT1H
X-Robots-Tag:noindex
X-PUBLISHED-TTL:PT1H
BEGIN:VTIMEZONE
TZID:Australia/Sydney
BEGIN:STANDARD
TZOFFSETFROM:+1100
TZOFFSETTO:+1000
TZNAME:AEST
DTSTART:20190406T160000
END:STANDARD
BEGIN:DAYLIGHT
TZOFFSETFROM:+1000
TZOFFSETTO:+1100
TZNAME:AEDT
DTSTART:20191005T160000
END:DAYLIGHT
BEGIN:STANDARD
TZOFFSETFROM:+1100
TZOFFSETTO:+1000
TZNAME:AEST
DTSTART:20200404T160000
END:STANDARD
BEGIN:DAYLIGHT
TZOFFSETFROM:+1000
TZOFFSETTO:+1100
TZNAME:AEDT
DTSTART:20201003T160000
END:DAYLIGHT
BEGIN:STANDARD
TZOFFSETFROM:+1100
TZOFFSETTO:+1000
TZNAME:AEST
DTSTART:20210403T160000
END:STANDARD
BEGIN:DAYLIGHT
TZOFFSETFROM:+1000
TZOFFSETTO:+1100
TZNAME:AEDT
DTSTART:20211002T160000
END:DAYLIGHT
END:VTIMEZONE
BEGIN:VEVENT
DTSTART;TZID=Australia/Sydney:20201002T190000
DTEND;TZID=Australia/Sydney:20201002T220000
DTSTAMP:20260425T022107
CREATED:20200813T070505Z
LAST-MODIFIED:20210518T112929Z
UID:554-1601665200-1601676000@emmanuel.com.au
SUMMARY:Feast of Tabernacles
DESCRIPTION:Zoom ID: 844 7401 6969 or Click HERE to enter the meeting. \nRegistration is now closed. \n \nThis event is admission free. However a free will offering is encouraged to sow into our website page (Support us) as we will fully honour all 7 God’s servants whom we have invited\, with speakers honorarium/love gift (1 Tim 5:17-18) for their dedication & advancement in the gospel of God’s Kingdom.
URL:https://emmanuel.com.au/event/festival-of-sukkot/
CATEGORIES:Zoom Conference
END:VEVENT
BEGIN:VEVENT
DTSTART;TZID=Australia/Sydney:20200918T190000
DTEND;TZID=Australia/Sydney:20200918T220000
DTSTAMP:20260425T022107
CREATED:20200813T063710Z
LAST-MODIFIED:20200918T063221Z
UID:529-1600455600-1600466400@emmanuel.com.au
SUMMARY:Feast of Trumpets
DESCRIPTION:Zoom ID: 822 8963 6774 or Click HERE to enter the meeting. \nRegistration required for Zoom password. \n \nThis event is admission free. However a free will offering is encouraged to sow into our website page (Support us) as we will fully honour all 7 God’s servants whom we have invited\, with speakers honorarium/love gift (1 Tim 5:17-18) for their dedication & advancement in the gospel of God’s Kingdom.
URL:https://emmanuel.com.au/event/feast-of-trumpets/
CATEGORIES:Zoom Conference
END:VEVENT
END:VCALENDAR