BEGIN:VCALENDAR
VERSION:2.0
PRODID:-//Emmanuel Blessings Christian Centre - ECPv6.15.13.1//NONSGML v1.0//EN
CALSCALE:GREGORIAN
METHOD:PUBLISH
X-WR-CALNAME:Emmanuel Blessings Christian Centre
X-ORIGINAL-URL:https://emmanuel.com.au
X-WR-CALDESC:Events for Emmanuel Blessings Christian Centre
REFRESH-INTERVAL;VALUE=DURATION:PT1H
X-Robots-Tag:noindex
X-PUBLISHED-TTL:PT1H
BEGIN:VTIMEZONE
TZID:Australia/Melbourne
BEGIN:STANDARD
TZOFFSETFROM:+1100
TZOFFSETTO:+1000
TZNAME:AEST
DTSTART:20200404T160000
END:STANDARD
BEGIN:DAYLIGHT
TZOFFSETFROM:+1000
TZOFFSETTO:+1100
TZNAME:AEDT
DTSTART:20201003T160000
END:DAYLIGHT
BEGIN:STANDARD
TZOFFSETFROM:+1100
TZOFFSETTO:+1000
TZNAME:AEST
DTSTART:20210403T160000
END:STANDARD
BEGIN:DAYLIGHT
TZOFFSETFROM:+1000
TZOFFSETTO:+1100
TZNAME:AEDT
DTSTART:20211002T160000
END:DAYLIGHT
BEGIN:STANDARD
TZOFFSETFROM:+1100
TZOFFSETTO:+1000
TZNAME:AEST
DTSTART:20220402T160000
END:STANDARD
BEGIN:DAYLIGHT
TZOFFSETFROM:+1000
TZOFFSETTO:+1100
TZNAME:AEDT
DTSTART:20221001T160000
END:DAYLIGHT
END:VTIMEZONE
BEGIN:VEVENT
DTSTART;TZID=Australia/Melbourne:20211203T190000
DTEND;TZID=Australia/Melbourne:20211203T210000
DTSTAMP:20260425T021822
CREATED:20211108T091151Z
LAST-MODIFIED:20220504T120824Z
UID:852-1638558000-1638565200@emmanuel.com.au
SUMMARY:Children Hope Foundation 2021
DESCRIPTION:“Children Hope Foundation” CHF 2021 – “Hanukkah Celebration” Sydney Zoom Conference\n \n 
URL:https://emmanuel.com.au/event/chf2021/
CATEGORIES:Zoom Conference
END:VEVENT
END:VCALENDAR